BEGIN:VCALENDAR
VERSION:2.0
PRODID:-//ngaaz.org - ECPv6.15.20//NONSGML v1.0//EN
CALSCALE:GREGORIAN
METHOD:PUBLISH
X-ORIGINAL-URL:https://www.ngaaz.org
X-WR-CALDESC:Events for ngaaz.org
REFRESH-INTERVAL;VALUE=DURATION:PT1H
X-Robots-Tag:noindex
X-PUBLISHED-TTL:PT1H
BEGIN:VTIMEZONE
TZID:America/Denver
BEGIN:DAYLIGHT
TZOFFSETFROM:-0700
TZOFFSETTO:-0600
TZNAME:MDT
DTSTART:20240310T090000
END:DAYLIGHT
BEGIN:STANDARD
TZOFFSETFROM:-0600
TZOFFSETTO:-0700
TZNAME:MST
DTSTART:20241103T080000
END:STANDARD
BEGIN:DAYLIGHT
TZOFFSETFROM:-0700
TZOFFSETTO:-0600
TZNAME:MDT
DTSTART:20250309T090000
END:DAYLIGHT
BEGIN:STANDARD
TZOFFSETFROM:-0600
TZOFFSETTO:-0700
TZNAME:MST
DTSTART:20251102T080000
END:STANDARD
BEGIN:DAYLIGHT
TZOFFSETFROM:-0700
TZOFFSETTO:-0600
TZNAME:MDT
DTSTART:20260308T090000
END:DAYLIGHT
BEGIN:STANDARD
TZOFFSETFROM:-0600
TZOFFSETTO:-0700
TZNAME:MST
DTSTART:20261101T080000
END:STANDARD
END:VTIMEZONE
BEGIN:VEVENT
DTSTART;VALUE=DATE:20250822
DTEND;VALUE=DATE:20250826
DTSTAMP:20260421T071711
CREATED:20250116T204444Z
LAST-MODIFIED:20251118T172802Z
UID:1854-1755820800-1756166399@www.ngaaz.org
SUMMARY:147th General Conference & Exhibition
DESCRIPTION:National Guard Association of the U.S. \n147th General Conference & Exhibition \n \nState Attendee Registration Form NGAUS 2025
URL:https://www.ngaaz.org/event/147th-general-conference-exhibition/
CATEGORIES:Featured Event
ATTACH;FMTTYPE=image/png:https://www.ngaaz.org/wp-content/uploads/image001-1.png
END:VEVENT
END:VCALENDAR